BEGIN:VCALENDAR
VERSION:2.0
PRODID:icalendar-ruby
CALSCALE:GREGORIAN
METHOD:PUBLISH
BEGIN:VEVENT
DTSTAMP:20260420T050852Z
UID:6-623263@pointoftruth.org
DTSTART:20230917T151500Z
DTEND:20230917T163000Z
CLASS:PUBLIC
CREATED:20260419T215718
DESCRIPTION:Join us in-person or online for worship this Sunday\nOur corp
 orate worship times are centered on drawing near to the Lord through worsh
 ip\, proclaiming the greatness and beauty of God through our praises\, and
  enjoying His glorious presence as we worship. We celebrate God’s presen
 ce through music and Biblical teaching.\nWe believe that God delights in a
 nd inhabits the praises of His people. Thus\, we highly value gathering to
 gether as a family to minister to Him and one another in psalms\, hymns\, 
 and spiritual songs.\nOur services also include times of prayer\, for Jesu
 s said His Father’s house would be a house of prayer. We spend time in G
 od’s word where we seek to listen to and obey the voice of the Lord. 
LAST-MODIFIED:20260419T215718
LOCATION:Sanctuary
SUMMARY:Sunday Morning Worship
URL;VALUE=URI:https://www.pointoftruth.org/events/sunday-morning-worship/20
 23-09-17
ATTACH;FILENAME=Sunday-service-thumbnail.png;FMTTYPE=image/png:https://dq5p
 wpg1q8ru0.cloudfront.net/2024/02/10/00/17/39/3b8c4730-f9b6-495b-b096-61d0f
 d2ba86d/Sunday-service-thumbnail.png
ATTACH;FILENAME=Sunday service thumbnail.png;FMTTYPE=image/png:https://dq5p
 wpg1q8ru0.cloudfront.net/2024/02/10/00/05/36/c05bc086-4411-4149-b6a1-f5277
 f50f3fa/Sunday%20service%20thumbnail.png
END:VEVENT
END:VCALENDAR
